BEGIN:VCALENDAR
VERSION:2.0
PRODID:-//ChamberMaster//Event Calendar 2.0//EN
METHOD:PUBLISH
X-PUBLISHED-TTL:P3D
REFRESH-INTERVAL:P3D
CALSCALE:GREGORIAN
BEGIN:VEVENT
DTSTART:20221118T160000Z
DTEND:20221118T170000Z
X-MICROSOFT-CDO-ALLDAYEVENT:FALSE
SUMMARY:*WEBINAR* Learn the Basics of Google Ads
DESCRIPTION:Don't Miss This Official Grow With Google Marketing Webinar Designed to Grow Your Business in 2022!\n\nNow more than ever\, businesses and nonprofits need to know how to reach and engage with customers online - to continue to generate leads\, make sales\, and grow revenue. Led by Grow With Google Speaker and Trainer Demming Bass\, this is a "can't miss" webinar customized for local businesses and nonprofits including additional ideas and strategies on how to market online in a post-pandemic world. In this webinar\, you will learn how to reach more customers and grow your business with Google Ads.\n\nIn this session we'll talk about:\n\n- How to create an account and set up an ad campaign\n\n- How to write great ads\, refine keywords\, and include ad extensions\n\n- How to measure success\n\nAs a bonus\, ALL ATTENDEES will receive free Google Matching Ad Credit (first-time users only). But hurry\, spots are limited for this non-recorded webinar and will go fast.
X-ALT-DESC;FMTTYPE=text/html:<span style="color: rgb(51\, 51\, 51)\; font-family: lato-regular\, HelveticaNeueW01-55Roma\, &quot\;Helvetica Neue&quot\;\, Helvetica\, Arial\, sans-serif\; font-size: 14px\; white-space: pre-wrap\; background-color: rgb(255\, 255\, 255)\;">Don&rsquo\;t Miss This Official Grow With Google Marketing Webinar Designed to Grow Your Business in 2022!<br />\nNow more than ever\, businesses and nonprofits need to know how to reach and engage with customers online - to continue to generate leads\, make sales\, and grow revenue. Led by Grow With Google Speaker and Trainer Demming Bass\, this is a &ldquo\;can&rsquo\;t miss&rdquo\; webinar customized for local businesses and nonprofits including additional ideas and strategies on how to market online in a post-pandemic world. In this webinar\, you will learn how to reach more customers and grow your business with Google Ads.<br />\nIn this session we&rsquo\;ll talk about:<br />\n- How to create an account and set up an ad campaign<br />\n- How to write great ads\, refine keywords\, and include ad extensions<br />\n- How to measure success<br />\nAs a bonus\, ALL ATTENDEES will receive free Google Matching Ad Credit (first-time users only). But hurry\, spots are limited for this non-recorded webinar and will go fast. </span>\n<div>&nbsp\;</div>\n
LOCATION:Don't forget to install the free GoToWebinar app if you plan to attend via a mobile device. iOS - https://apps.apple.com/app/gotowebinar/id1244921300 Android - https://play.google.com/store/apps/details?id=com.logmein.gotowebinar To register\, click the link below:
UID:e.1940.165950
SEQUENCE:3
DTSTAMP:20260420T120053Z
URL:https://athensga-gzcms.preview.gochambermaster.com/events/details/webinar-learn-the-basics-of-google-ads-165950
END:VEVENT

END:VCALENDAR
