BEGIN:VCALENDAR
VERSION:2.0
PRODID:-//ChamberMaster//Event Calendar 2.0//EN
METHOD:PUBLISH
X-PUBLISHED-TTL:P3D
REFRESH-INTERVAL:P3D
CALSCALE:GREGORIAN
BEGIN:VEVENT
DTSTART:20220518T150000Z
DTEND:20220518T160000Z
X-MICROSOFT-CDO-ALLDAYEVENT:FALSE
SUMMARY:Urgent Care of Oconee Ribbon Cutting
DESCRIPTION:Join the Athens Area Chamber of Commerce as we celebrate the grand opening of Urgent Care of Oconee! \n\n\n\nUrgent Care of Oconee's goal is to deliver patient focused care with professional\, friendly service in a timely manner\, convenient\, to you and your family for your immediate health needs in our community. They services include urgent care\, in-house moderate complexity lab\, in-house x-ray\, biologic treatments\, plasma therapy\, stem cell treatments\, primary care sports medicine\, medical clearance for travel\, and occupational medicine.
X-ALT-DESC;FMTTYPE=text/html:Join the Athens Area Chamber of Commerce as we celebrate the grand opening of Urgent Care of Oconee!&nbsp\;<br />\n<br />\nUrgent Care of Oconee&#39\;s goal is to deliver patient focused care with professional\, friendly service in a timely manner\, convenient\, to you and your family for your immediate health needs in our community. They services include urgent care\, in-house moderate complexity lab\, in-house x-ray\, biologic treatments\, plasma therapy\, stem cell treatments\, primary care sports medicine\, medical clearance for travel\, and occupational medicine.&nbsp\;
LOCATION:
UID:e.1940.165914
SEQUENCE:3
DTSTAMP:20260422T063144Z
URL:https://athensga-gzcms.preview.gochambermaster.com/events/details/urgent-care-of-oconee-ribbon-cutting-165914
END:VEVENT

END:VCALENDAR
