BEGIN:VCALENDAR
VERSION:2.0
PRODID:-//ChamberMaster//Event Calendar 2.0//EN
METHOD:PUBLISH
X-PUBLISHED-TTL:P3D
REFRESH-INTERVAL:P3D
CALSCALE:GREGORIAN
BEGIN:VEVENT
DTSTART:20200827T130000Z
DTEND:20200827T160000Z
X-MICROSOFT-CDO-ALLDAYEVENT:FALSE
SUMMARY:Starting a Business Course
DESCRIPTION:The Starting A Business course covers important tools and resources a business owner needs to establish a solid foundation during its early formative years.\n\nTopics for discussion include:\n\n\n	Personal Traits of an Entrepreneur\n	Marketing Analysis\n	Legal and Insurance Considerations\n	Technology for Your Business\n	Bookkeeping and Accounting Basics\n	Financial and Money Management\n	Basics of Business Plan Preparation\n\n\nWho should attend: Startups (businesses less than 2 years old)\n\nCOST: $69   $0 through the end of 2020\n\nCOURSE LENGTH: 3 HOURS\n\n\n\n\n\nDownload our How to Start a Business booklet by CLICKING HERE.
X-ALT-DESC;FMTTYPE=text/html:<div class="wpb_text_column wpb_content_element " style="box-sizing: border-box\; margin-bottom: 35px\; color: rgb(119\, 119\, 119)\; font-family: &quot\;Merriweather Sans&quot\;\; font-size: 15px\; background-color: rgb(255\, 255\, 255)\;">\n<div class="wpb_wrapper" style="box-sizing: border-box\; margin-bottom: 0px\;">\n<p style="box-sizing: border-box\; margin: 0px 0px 10px\;">The&nbsp\;<span style="box-sizing: border-box\; font-weight: 700\; margin-bottom: 0px\;">Starting A Business</span>&nbsp\;course covers important tools and resources a business owner needs to establish a solid foundation during its early formative years.</p>\n\n<p style="box-sizing: border-box\; margin: 0px 0px 10px\;">Topics for discussion include:</p>\n\n<ul style="box-sizing: border-box\; margin-top: 0px\; margin-bottom: 10px\;">\n	<li style="box-sizing: border-box\;">Personal Traits of an Entrepreneur</li>\n	<li style="box-sizing: border-box\;">Marketing Analysis</li>\n	<li style="box-sizing: border-box\;">Legal and Insurance Considerations</li>\n	<li style="box-sizing: border-box\;">Technology for Your Business</li>\n	<li style="box-sizing: border-box\;">Bookkeeping and Accounting Basics</li>\n	<li style="box-sizing: border-box\;">Financial and Money Management</li>\n	<li style="box-sizing: border-box\; margin-bottom: 0px\;">Basics of Business Plan Preparation</li>\n</ul>\n\n<p style="box-sizing: border-box\; margin: 0px 0px 10px\;">Who should attend: Startups (businesses less than 2 years old)</p>\n\n<p style="box-sizing: border-box\; margin: 0px\;"><span style="box-sizing: border-box\; font-weight: 700\;">COST:&nbsp\;<del style="box-sizing: border-box\; margin-bottom: 0px\;">$69</del>&nbsp\;&ndash\; $0 through the end of 2020</span><br style="box-sizing: border-box\;" />\n<span style="box-sizing: border-box\; font-weight: 700\; margin-bottom: 0px\;">COURSE LENGTH: 3 HOURS</span></p>\n</div>\n</div>\n\n<div class="wpb_text_column wpb_content_element " style="box-sizing: border-box\; margin-bottom: 0px\; color: rgb(119\, 119\, 119)\; font-family: &quot\;Merriweather Sans&quot\;\; font-size: 15px\; background-color: rgb(255\, 255\, 255)\;">\n<div class="wpb_wrapper" style="box-sizing: border-box\; margin-bottom: 0px\;">\n<p style="box-sizing: border-box\; margin: 0px\;">Download our How to Start a Business booklet by&nbsp\;<span style="box-sizing: border-box\; font-weight: 700\; margin-bottom: 0px\;"><a href="https://www.georgiasbdc.org/wp-content/uploads/2015/06/How-to-Start-a-Business-Booklet.pdf" rel="noopener noreferrer" style="box-sizing: border-box\; background-color: transparent\; text-decoration-line: none\; transition-duration: 0.4s\; margin-bottom: 0px\; color: rgb(195\, 32\, 49) !important\;" target="_blank">CLICKING HERE</a></span>.</p>\n</div>\n</div>\n
LOCATION:Register here: https://www.georgiasbdc.org/checkout/ Starting a Business - Webinar Center UGA SBDC in Gwinnett Topic Starting a Business Format Online Schedule Thursday August 27 2020 09:00 AM to 12:00 PM Contact Helen Sutherland Phone 6789856820 Email gwinnett@georgiasbdc.org City Webinar Venue Online webinar Address 2530 Sever Road Lawrenceville Discounts None at this time Notes Please have a zoom account set up prior to the webinar. Check other locations and dates for this program
UID:e.1940.165494
SEQUENCE:3
DTSTAMP:20260425T005626Z
URL:https://athensga-gzcms.preview.gochambermaster.com/events/details/starting-a-business-course-165494
END:VEVENT

END:VCALENDAR
