BEGIN:VCALENDAR
VERSION:2.0
PRODID:-//ChamberMaster//Event Calendar 2.0//EN
METHOD:PUBLISH
X-PUBLISHED-TTL:P3D
REFRESH-INTERVAL:P3D
CALSCALE:GREGORIAN
BEGIN:VEVENT
DTSTART:20221126T180000Z
DTEND:20221126T230000Z
X-MICROSOFT-CDO-ALLDAYEVENT:FALSE
SUMMARY:Small Biz Saturday Holiday Market
DESCRIPTION:Holiday shopping at it's best! The market will feature a variety of local vendors\, selling everything from jewelry and soap\, to paper goods and ceramics. We want to uplift our local community of artisans and craftspeople through this market and are honored to host this event for Athens and surrounding areas.
X-ALT-DESC;FMTTYPE=text/html:Holiday shopping at it&#39\;s best! The market will feature a variety of local vendors\, selling everything from jewelry and soap\, to paper goods and ceramics. We want to uplift our local community of artisans and craftspeople through this market and are honored to host this event for Athens and surrounding areas.
LOCATION:Athentic Brewing Company 108 Park Ave\, Athens GA
UID:e.1940.166577
SEQUENCE:3
DTSTAMP:20260420T070238Z
URL:https://athensga-gzcms.preview.gochambermaster.com/events/details/small-biz-saturday-holiday-market-166577
END:VEVENT

END:VCALENDAR
