BEGIN:VCALENDAR
VERSION:2.0
PRODID:-//ChamberMaster//Event Calendar 2.0//EN
METHOD:PUBLISH
X-PUBLISHED-TTL:P3D
REFRESH-INTERVAL:P3D
CALSCALE:GREGORIAN
BEGIN:VEVENT
DTSTART:20221122T233000Z
DTEND:20221123T003000Z
X-MICROSOFT-CDO-ALLDAYEVENT:FALSE
SUMMARY:Rotary E-Club of the South Featuring Diane Bloodworth
DESCRIPTION:The Rotary E-Club of the South will host Diane Bloodworth - UGA alum\, President and CEO\, Competitive Sports Analysis\, Atlanta. Invited by Peter Stoddard
X-ALT-DESC;FMTTYPE=text/html:<div style="border: 0px\; font-variant-numeric: inherit\; font-variant-east-asian: inherit\; font-stretch: inherit\; font-size: 15px\; line-height: inherit\; font-family: Roboto\, Helvetica\, Arial\, sans-serif\; margin: 0.5em 0px 0px\; padding: 0px\; vertical-align: baseline\; color: rgb(5\, 5\, 5)\; white-space: pre-wrap\;">\n<div dir="auto" style="border: 0px\; font: inherit\; margin: 0px\; padding: 0px\; vertical-align: baseline\; color: inherit\;"><font size="4">The Rotary E-Club of the South will host </font><a data-auth="NotApplicable" data-linkindex="7" href="https://news.terry.uga.edu/articles/analytics_with_alums_diane_bloodworth/" rel="noopener noreferrer" style="border: 0px\; font-variant-numeric: inherit\; font-variant-east-asian: inherit\; font-stretch: inherit\; font-size: large\; line-height: inherit\; font-family: Arial\, sans-serif\; margin: 0px\; padding: 0px\; vertical-align: baseline\; background-color: rgb(255\, 255\, 255)\; text-decoration-line: none\;" target="_blank"><span style="border: 0px\; font-style: inherit\; font-variant-ligatures: inherit\; font-variant-caps: inherit\; font-variant-numeric: normal\; font-variant-east-asian: normal\; font-weight: inherit\; font-stretch: inherit\; font-size: 11pt\; line-height: inherit\; font-family: Arial\; margin: 0px\; padding: 0px\; vertical-align: baseline\; color: inherit\; background-color: transparent !important\; white-space: pre-wrap\; text-decoration-line: underline\;">Diane Bloodworth</span></a><span style="border: 0px\; font-variant-numeric: normal\; font-variant-east-asian: normal\; font-stretch: inherit\; font-size: 11pt\; line-height: inherit\; font-family: Arial\; margin: 0px\; padding: 0px\; vertical-align: baseline\; white-space: pre-wrap\;"> - UGA alum\, President and CEO\, Competitive Sports Analysis\, Atlanta. Invited by Peter Stoddard</span></div>\n</div>\n
LOCATION:This is a virtual event.
UID:e.1940.165955
SEQUENCE:3
DTSTAMP:20260420T070419Z
URL:https://athensga-gzcms.preview.gochambermaster.com/events/details/rotary-e-club-of-the-south-featuring-diane-bloodworth-165955
END:VEVENT

END:VCALENDAR
