BEGIN:VCALENDAR
VERSION:2.0
PRODID:-//ChamberMaster//Event Calendar 2.0//EN
METHOD:PUBLISH
X-PUBLISHED-TTL:P3D
REFRESH-INTERVAL:P3D
CALSCALE:GREGORIAN
BEGIN:VEVENT
DTSTART:20221027T200000Z
DTEND:20221027T210000Z
X-MICROSOFT-CDO-ALLDAYEVENT:FALSE
SUMMARY:Piedmont University Education Degree Zoom Info Session
DESCRIPTION:We currently offer Elementary\, Middle Grades\, and Special Education programs all leading to Teacher Certification as well as a Master's in Teaching program available. Our programs are conveniently offered in the evenings with some hybrid and online courses also available with the goal of allowing many to continue working while they pursue higher education.
X-ALT-DESC;FMTTYPE=text/html:We currently offer Elementary\, Middle Grades\, and Special Education programs all leading to Teacher Certification as well as a Master&rsquo\;s in Teaching program available. Our programs are conveniently offered in the evenings with some hybrid and online courses also available with the goal of allowing many to continue working while they pursue higher education.
LOCATION:Zoom
UID:e.1940.166416
SEQUENCE:3
DTSTAMP:20260421T013615Z
URL:https://athensga-gzcms.preview.gochambermaster.com/events/details/piedmont-university-education-degree-zoom-info-session-166416
END:VEVENT

END:VCALENDAR
