BEGIN:VCALENDAR
VERSION:2.0
PRODID:-//ChamberMaster//Event Calendar 2.0//EN
METHOD:PUBLISH
X-PUBLISHED-TTL:P3D
REFRESH-INTERVAL:P3D
CALSCALE:GREGORIAN
BEGIN:VEVENT
DTSTART:20220813T000000Z
DTEND:20220813T020000Z
X-MICROSOFT-CDO-ALLDAYEVENT:FALSE
SUMMARY:Piedmont Athens Regional Honoring Philanthropy: A Night with Piedmont Movers & Changemakers
DESCRIPTION:Join Piedmont Athens Regional for an evening with The Highballs at The Georgia Theatre on Friday\, August 12. All proceeds from this event benefit Piedmont Athens Regional. Doors open at 7:30 PM.
X-ALT-DESC;FMTTYPE=text/html:Join Piedmont Athens Regional for an evening with The Highballs at The Georgia Theatre on Friday\, August 12. All proceeds from this event benefit Piedmont Athens Regional. Doors open at 7:30 PM.
LOCATION:The Georgia Theatre 215 North Lumpkin Street Athens\, GA 30601
UID:e.1940.165936
SEQUENCE:3
DTSTAMP:20260421T043842Z
URL:https://athensga-gzcms.preview.gochambermaster.com/events/details/piedmont-athens-regional-honoring-philanthropy-a-night-with-piedmont-movers-changemakers-165936
END:VEVENT

END:VCALENDAR
