BEGIN:VCALENDAR
VERSION:2.0
PRODID:-//ChamberMaster//Event Calendar 2.0//EN
METHOD:PUBLISH
X-PUBLISHED-TTL:P3D
REFRESH-INTERVAL:P3D
CALSCALE:GREGORIAN
BEGIN:VEVENT
DTSTART:20210608T153000Z
DTEND:20210608T170000Z
X-MICROSOFT-CDO-ALLDAYEVENT:FALSE
SUMMARY:Network Lunch is Back!
DESCRIPTION:Network Lunch is back!! \n\n\n\nCome enjoy a great lunch at Saucehouse BBQ while networking with other business members!
X-ALT-DESC;FMTTYPE=text/html:Network Lunch is back!!&nbsp\;<br />\n<br />\nCome enjoy a great lunch at<a href="https://saucehouse.com/"> Saucehouse BBQ </a>while networking with other business members!
LOCATION:
UID:e.1940.165666
SEQUENCE:3
DTSTAMP:20260423T091830Z
URL:https://athensga-gzcms.preview.gochambermaster.com/events/details/network-lunch-is-back-165666
END:VEVENT

END:VCALENDAR
