BEGIN:VCALENDAR
VERSION:2.0
PRODID:-//ChamberMaster//Event Calendar 2.0//EN
METHOD:PUBLISH
X-PUBLISHED-TTL:P3D
REFRESH-INTERVAL:P3D
CALSCALE:GREGORIAN
BEGIN:VEVENT
DTSTART:20220222T130000Z
DTEND:20220222T200000Z
X-MICROSOFT-CDO-ALLDAYEVENT:FALSE
SUMMARY:Legislative Trip to The Gold Dome
DESCRIPTION:Join us on our trip to the Gold Dome in ATL to talk with our legislative delegation and other policy leaders for the state of Georgia.   Our expectation would be to leave Athens (transportation provided) around 8:00am with a robust schedule of meetings beginning at 10:15.  Lunch will be provided. We would expect to get back in mid afternoon.
X-ALT-DESC;FMTTYPE=text/html:Join us on our trip to the Gold Dome in ATL to talk with our legislative delegation and other policy leaders for the state of Georgia.&nbsp\; &nbsp\;Our expectation would be to leave Athens (transportation provided) around 8:00am with a robust schedule of meetings beginning at 10:15.&nbsp\; Lunch will be provided. We would expect to get back in mid afternoon.&nbsp\; &nbsp\;
LOCATION:Atlanta - Under the Gold Dome
UID:e.1940.165835
SEQUENCE:3
DTSTAMP:20260422T094453Z
URL:https://athensga-gzcms.preview.gochambermaster.com/events/details/legislative-trip-to-the-gold-dome-165835
END:VEVENT

END:VCALENDAR
