BEGIN:VCALENDAR
VERSION:2.0
PRODID:-//ChamberMaster//Event Calendar 2.0//EN
METHOD:PUBLISH
X-PUBLISHED-TTL:P3D
REFRESH-INTERVAL:P3D
CALSCALE:GREGORIAN
BEGIN:VEVENT
DTSTART:20210805T173000Z
DTEND:20210805T200000Z
X-MICROSOFT-CDO-ALLDAYEVENT:FALSE
SUMMARY:Grand Opening of ATH|BNB’s The Rushmore
DESCRIPTION:ATH|BNB\, an innovative new lifestyle and accommodation concept\, will host a grand opening for The Rushmore\, a luxury\, modern bed and breakfast in the heart of Five Points. Drop by to see the unique accommodations on Thursday\, August 5 from 1:30 4 p.m.
X-ALT-DESC;FMTTYPE=text/html:ATH|BNB\, an innovative new lifestyle and accommodation concept\, will host a grand opening for The Rushmore\, a luxury\, modern bed and breakfast in the heart of Five Points. Drop by to see the unique accommodations on Thursday\, August 5 from 1:30&ndash\;4 p.m.
LOCATION:1175 S. Milledge Ave.\, Athens
UID:e.1940.165709
SEQUENCE:3
DTSTAMP:20260423T023929Z
URL:https://athensga-gzcms.preview.gochambermaster.com/events/details/grand-opening-of-ath-bnb-s-the-rushmore-165709
END:VEVENT

END:VCALENDAR
