BEGIN:VCALENDAR
VERSION:2.0
PRODID:-//ChamberMaster//Event Calendar 2.0//EN
METHOD:PUBLISH
X-PUBLISHED-TTL:P3D
REFRESH-INTERVAL:P3D
CALSCALE:GREGORIAN
BEGIN:VEVENT
DTSTART:20210929T150000Z
DTEND:20210929T190000Z
X-MICROSOFT-CDO-ALLDAYEVENT:FALSE
SUMMARY:Goodwill hosts a Job Fair at Georgia Square Mall!
DESCRIPTION:Job Fair @  Georgia Square Mall\n\n\n\n\n\nAre you looking for suitable employment opportunities?\n\nGoodwill's Athens Career Centers can help.\n\nJoin us for the Job Fair @ Georgia Square Mall!\n\nMore than 25 employers will be on-site conducting interviews for over 100 professional\, warehouse\, manufacturing\, service\, management\, and retail positions.\n\nHiring immediately!!\n\n	Capacity 25 people at any given time\n\nPlease Note:\n\n\n	Masks are required to enter the job fair and must be kept on inside. \n	A temperature check will be done. Those with a temperature of 100.4 or over will be unable to attend the job fair. \n	Wellness checks will be conducted.\n\nAttendees should dress in professional attire and come prepared with copies of their resume.\n\n \n\nEmployers: \n\n \n\n	\n		\n			\n			University of Georgia EITC Project\n\n			Clarke County Sheriff's Office\n\n			Volt Workforce Solutions \n\n			BOS Medical Staffing\n\n			Mcdonals\n\n			Accurus Aerospace Athens\n\n			Ollie's Bargain Outlet \n\n			Sizemore Inc.\n\n			Masis Staffing Solutions\n\n			Wayne Farms\n\n			Old Navy\n\n			And More!\n			\n		\n	\n\nHitachi Astemo\n\nBone Dry Roofing\n\nABM\n\nHire Dynamics\n\nWhitworth Women's Facility\n\nFlexible Staffing of Georgia \n\nCaterpillar Inc.\n\nReaderLink Distribution Services\, LLC.\n\nAmazon\n\nUGA Dining Services\n\nPrimecare\n\nBed Bath & Beyond\n\nTrumps Catering\n\nUFP Mid Atlantic\, LLC\n\nCompanies are subject to change with no notice. Goodwill  of North Georgia endeavors to bring valuable and high quality resources and services to our communities\, at times delivered by other organizations.  We do not endorse any organization\, service or its content\, and cannot guarantee the quality or reliability of a service provided by other organizations. Upon request auxiliary aids and services will be provided to individuals with disabilities. Please contact us at the number pr
X-ALT-DESC;FMTTYPE=text/html:<strong><span style="color:#00498A\;"><span style="font-family:arial\,sans-serif\;"><span style="font-size:20.0pt\;">Job Fair&nbsp\;</span></span></span></strong><strong><span style="color:#00498A\;"><span style="font-family:arial\,sans-serif\;"><span style="font-size:20.0pt\;">@&nbsp\;&nbsp\;</span></span></span></strong><strong><span style="color:#00498A\;"><span style="font-family:arial\,sans-serif\;"><span style="font-size:20.0pt\;">Georgia Square Mall</span></span></span></strong><br />\n<br />\n<br />\n<span style="font-family:palatino\;"><span style="font-size:11.0pt\;">Are you looking for suitable employment opportunities?</span></span><br />\n<span style="font-family:palatino\;"><span style="font-size:11.0pt\;">Goodwill&rsquo\;s Athens Career Centers can help.</span></span><br />\n<span style="font-family:palatino\;"><span style="font-size:11.0pt\;">Join us for the Job Fair @ Georgia Square Mall!</span></span><br />\n<span style="font-family:palatino\;"><span style="font-size:11.0pt\;">More than 25 employers will be on-site conducting interviews for over 100 professional\, warehouse\, manufacturing\, service\, management\, and retail positions.</span></span><br />\n<span style="font-family:palatino\;"><span style="font-size:11.0pt\;">Hiring immediately!!</span></span>\n<ul style="list-style-type:circle\;">\n	<li align="center" style="margin-top:12.0pt\;margin-right:0in\;margin-bottom:0in\;margin-bottom:.0001pt\;text-align:center\;"><strong><span style="font-family:palatino\;"><span style="font-size:11.0pt\;">Capacity 25 people at any given time</span></span></strong></li>\n</ul>\n<strong><span style="font-family:palatino\;">Please Note:</span></strong>\n\n<ul style="list-style-type:circle\;">\n	<li><span style="font-family:palatino\;"><span style="font-size:11.0pt\;">Masks are required to enter the job fair and must be kept on inside. </span></span></li>\n	<li><span style="font-family:palatino\;"><span style="font-size:11.0pt\;">A temperature check will be done. Those with a temperature of 100.4 or over will be unable to attend the job fair. </span></span></li>\n	<li><span style="font-family:palatino\;"><span style="font-size:11.0pt\;">Wellness checks will be conducted.</span></span></li>\n</ul>\n<em><span style="font-family:palatino\;"><span style="font-size:11.0pt\;">Attendees should dress in <strong>professional attire</strong> and come prepared with copies of their resume</span></span></em><em><span style="font-family:palatino\;">.</span></em><br />\n&nbsp\;<br />\n<strong><span style="color:#4472C4\;"><span style="font-family:calibri\,sans-serif\;">Employers: </span></span></strong><br />\n&nbsp\;\n<table cellpadding="0" cellspacing="0" width="100%">\n	<tbody>\n		<tr>\n			<td>\n			<div><strong><span style="font-family:calibri\,sans-serif\;"><span style="font-size:9.0pt\;">University of Georgia EITC Project</span></span></strong><br />\n			<strong><span style="font-family:calibri\,sans-serif\;"><span style="font-size:9.0pt\;">Clarke County Sheriff&#39\;s Office</span></span></strong><br />\n			<strong><span style="font-family:calibri\,sans-serif\;"><span style="font-size:9.0pt\;">Volt Workforce Solutions </span></span></strong><br />\n			<strong><span style="font-family:calibri\,sans-serif\;"><span style="font-size:9.0pt\;">BOS Medical Staffing</span></span></strong><br />\n			<strong><span style="font-family:calibri\,sans-serif\;"><span style="font-size:9.0pt\;">Mcdonals</span></span></strong><br />\n			<strong><span style="font-family:calibri\,sans-serif\;"><span style="font-size:9.0pt\;">Accurus Aerospace Athens</span></span></strong><br />\n			<strong><span style="font-family:calibri\,sans-serif\;"><span style="font-size:9.0pt\;">Ollie&#39\;s Bargain Outlet </span></span></strong><br />\n			<strong><span style="font-family:calibri\,sans-serif\;"><span style="font-size:9.0pt\;">Sizemore Inc.</span></span></strong><br />\n			<strong><span style="font-family:calibri\,sans-serif\;"><span style="font-size:9.0pt\;">Masis Staffing Solutions</span></span></strong><br />\n			<strong><span style="font-family:calibri\,sans-serif\;"><span style="font-size:9.0pt\;">Wayne Farms</span></span></strong><br />\n			<strong><span style="font-family:calibri\,sans-serif\;"><span style="font-size:9.0pt\;">Old Navy</span></span></strong><br />\n			<strong><span style="font-family:calibri\,sans-serif\;"><span style="font-size:9.0pt\;">And More!</span></span></strong></div>\n			</td>\n		</tr>\n	</tbody>\n</table>\n<strong><span style="font-family:calibri\,sans-serif\;"><span style="font-size:9.0pt\;">Hitachi Astemo</span></span></strong><br />\n<strong><span style="font-family:calibri\,sans-serif\;"><span style="font-size:9.0pt\;">Bone Dry Roofing</span></span></strong><br />\n<strong><span style="font-family:calibri\,sans-serif\;"><span style="font-size:9.0pt\;">ABM</span></span></strong><br />\n<strong><span style="font-family:calibri\,sans-serif\;"><span style="font-size:9.0pt\;">Hire Dynamics</span></span></strong><br />\n<strong><span style="font-family:calibri\,sans-serif\;"><span style="font-size:9.0pt\;">Whitworth Women&#39\;s Facility</span></span></strong><br />\n<strong><span style="font-family:calibri\,sans-serif\;"><span style="font-size:9.0pt\;">Flexible Staffing of Georgia </span></span></strong><br />\n<strong><span style="font-family:calibri\,sans-serif\;"><span style="font-size:9.0pt\;">Caterpillar Inc.</span></span></strong><br />\n<strong><span style="font-family:calibri\,sans-serif\;"><span style="font-size:9.0pt\;">ReaderLink Distribution Services\, LLC.</span></span></strong><br />\n<strong><span style="font-family:calibri\,sans-serif\;"><span style="font-size:9.0pt\;">Amazon</span></span></strong><br />\n<strong><span style="font-family:calibri\,sans-serif\;"><span style="font-size:9.0pt\;">UGA Dining Services</span></span></strong><br />\n<strong><span style="font-family:calibri\,sans-serif\;"><span style="font-size:9.0pt\;">Primecare</span></span></strong><br />\n<strong><span style="font-family:calibri\,sans-serif\;"><span style="font-size:9.0pt\;">Bed Bath &amp\; Beyond</span></span></strong><br />\n<strong><span style="font-family:calibri\,sans-serif\;"><span style="font-size:9.0pt\;">Trumps Catering</span></span></strong><br />\n<strong><span style="font-family:calibri\,sans-serif\;"><span style="font-size:9.0pt\;">UFP Mid Atlantic\, LLC</span></span></strong><br />\n<em><span style="font-family:palatino linotype\,serif\;"><span style="font-size:6.0pt\;">Companies are subject to change with no notice. Goodwill&copy\; of North Georgia endeavors to bring valuable and high quality resources and services to our communities\, at times delivered by other organizations.&nbsp\; We do not endorse any organization\, service or its content\, and cannot guarantee the quality or reliability of a service provided by other organizations. Upon request auxiliary aids and services will be provided to individuals with disabilities. Please contact us at the number pr</span></span></em>
LOCATION:
UID:e.1940.165765
SEQUENCE:3
DTSTAMP:20260423T004350Z
URL:https://athensga-gzcms.preview.gochambermaster.com/events/details/goodwill-hosts-a-job-fair-at-georgia-square-mall-165765
END:VEVENT

END:VCALENDAR
