BEGIN:VCALENDAR
VERSION:2.0
PRODID:-//ChamberMaster//Event Calendar 2.0//EN
METHOD:PUBLISH
X-PUBLISHED-TTL:P3D
REFRESH-INTERVAL:P3D
CALSCALE:GREGORIAN
BEGIN:VEVENT
DTSTART:20200124T163000Z
DTEND:20200124T180000Z
X-MICROSOFT-CDO-ALLDAYEVENT:FALSE
SUMMARY:Creating the life you want in 2020! Lunch and Learn with author Sallie Holder
DESCRIPTION:Join us for lunch and conversation with Sallie Holder\, the Author of the new book 'Hitting Rock Middle: When Success Doesn't Feel Like Success'. Sallie is an award-winning attorney\, innovative thought leader\, podcaster and author\, who coined the term 'Hitting Rock Middle'\, and the BE BOLDER strategy for helping people reach their greatest potential.\n\n\n\nEver checked all the boxes on the road to success\, only to discover the destination wasn't what you had hoped? So\, you're asking now what?  Where do I go from here? You've achieved a certain level of success\, but the truth is you feel miserable. All you want is to love what you do\, but you just aren't sure how to get there without someone showing you the path.  Through the BE BOLDER framework\, Sallie will share elements of her action plan for you to: \n\n\n\nCultivate Courage to BE BOLDER\n\n\n\n\n\n	\n	\n		Learn how to start dreaming again so that you can create a clear vision for your future.\n		Develop a compass to use for decision making so that you know exactly what to focus on.\n		Redefine your goals and the path to get there.\n		Create a plan for daily\, weekly\, & monthly actions that create a feeling of happiness.\n	\n	\n\n\n\n\n\nTo learn more about Sallie or to order her book\, head to www.sallieholder.com. \n\n\n\n~Books will be available for purchase at a book signing at the end of the program!~
X-ALT-DESC;FMTTYPE=text/html:<blockquote style="color: rgb(32\, 31\, 30)\; font-family: &quot\;Segoe UI&quot\;\, &quot\;Segoe UI Web (West European)&quot\;\, &quot\;Segoe UI&quot\;\, -apple-system\, BlinkMacSystemFont\, Roboto\, &quot\;Helvetica Neue&quot\;\, sans-serif\; font-size: 15px\; background-color: rgb(255\, 255\, 255)\; margin: 0px 0px 0px 40px\; border: none\; padding: 0px\;">\n<div style="margin: 0px\; padding: 0px\; border: 0px\; font: inherit\; vertical-align: baseline\; color: inherit\;">\n<p class="x_MsoNormal" style="line-height: normal\; margin: 0in 0in 8pt\; font-size: 11pt\; font-family: Calibri\, sans-serif\;"><strong><span style="font-family:verdana\;"><span style="font-size:14px\;"><span style="color:#0000CD\;">Join us for lunch and conversation with Sallie Holder\, the Author of the new book &#39\;<u>Hitting Rock Middle: When Success Doesn&#39\;t Feel Like Success</u>&#39\;. Sallie is an award-winning attorney\, innovative thought leader\, podcaster and author\, who coined the term &#39\;Hitting Rock Middle&#39\;\, and the BE BOLDER strategy for helping people reach their greatest potential.<br />\n<br />\nEver checked all the boxes on the road to success\, only to discover the destination wasn&#39\;t what you had hoped? So\, you&#39\;re asking now what?&nbsp\; Where do I go from here? You&#39\;ve achieved a certain level of success\, but the truth is you feel miserable. All you want is to love what you do\, but you just aren&#39\;t sure how to get there without someone showing you the path.&nbsp\; Through the BE BOLDER framework\, Sallie will share elements of her action plan for you to:&nbsp\;</span></span></span></strong><br />\n<br />\nCultivate Courage to <u><strong>BE BOLDER</strong></u></p>\n</div>\n</blockquote>\n\n<div style="margin: 0px\; padding: 0px\; border: 0px\; font-variant-numeric: inherit\; font-variant-east-asian: inherit\; font-stretch: inherit\; font-size: 15px\; line-height: inherit\; font-family: &quot\;Segoe UI&quot\;\, &quot\;Segoe UI Web (West European)&quot\;\, &quot\;Segoe UI&quot\;\, -apple-system\, BlinkMacSystemFont\, Roboto\, &quot\;Helvetica Neue&quot\;\, sans-serif\; vertical-align: baseline\; color: rgb(32\, 31\, 30)\; background-color: rgb(255\, 255\, 255)\;">\n<ul style="margin-bottom: 0in\;" type="disc">\n	<li>\n	<ul>\n		<li class="x_MsoNormal" style="line-height: normal\; margin: 0in 0in 8pt\; font-size: 11pt\; font-family: Calibri\, sans-serif\;">Learn how to <u><strong>start dreaming again</strong></u> so that you can create a clear vision for your future.</li>\n		<li class="x_MsoNormal" style="line-height: normal\; margin: 0in 0in 8pt\; font-size: 11pt\; font-family: Calibri\, sans-serif\;"><u><strong>Develop a compass</strong></u> to use for decision making so that you know exactly what to focus on.</li>\n		<li class="x_MsoNormal" style="line-height: normal\; margin: 0in 0in 8pt\; font-size: 11pt\; font-family: Calibri\, sans-serif\;"><u><strong>Redefine your goals</strong></u> and the path to get there.</li>\n		<li class="x_MsoNormal" style="line-height: normal\; margin: 0in 0in 8pt\; font-size: 11pt\; font-family: Calibri\, sans-serif\;"><u><strong>Create a plan</strong></u> for daily\, weekly\, &amp\; monthly actions that create a feeling of happiness.</li>\n	</ul>\n	</li>\n</ul>\n</div>\n\n<blockquote style="color: rgb(32\, 31\, 30)\; font-family: &quot\;Segoe UI&quot\;\, &quot\;Segoe UI Web (West European)&quot\;\, &quot\;Segoe UI&quot\;\, -apple-system\, BlinkMacSystemFont\, Roboto\, &quot\;Helvetica Neue&quot\;\, sans-serif\; font-size: 15px\; background-color: rgb(255\, 255\, 255)\; margin: 0px 0px 0px 40px\; border: none\; padding: 0px\;">\n<div style="margin: 0px\; padding: 0px\; border: 0px\; font: inherit\; vertical-align: baseline\; color: inherit\;">\n<p class="x_MsoNormal" style="line-height: normal\; margin: 0in 0in 8pt\; font-size: 11pt\; font-family: Calibri\, sans-serif\;"><span style="margin: 0px\; padding: 0px\; border: 0px\; font: inherit\; vertical-align: baseline\; color: black\; letter-spacing: 0.4pt\; background-image: initial\; background-position: initial\; background-size: initial\; background-repeat: initial\; background-origin: initial\; background-clip: initial\;">To learn more about Sallie or to order her book\, head to&nbsp\;</span><a data-auth="NotApplicable" href="http://www.sallieholder.com/" rel="noopener noreferrer" style="margin: 0px\; padding: 0px\; border: 0px\; font: inherit\; vertical-align: baseline\; color: blue\;" target="_blank">www.sallieholder.com</a>.&nbsp\;<br />\n<br />\n<span style="font-family:verdana\;"><span style="font-size:14px\;"><strong><span style="color:#0000FF\;">~Books will be available for purchase at a book signing at the end of the program!~&nbsp\;</span></strong></span></span></p>\n\n<div>&nbsp\;</div>\n</div>\n</blockquote>\n\n<div style="margin: 0px\; padding: 0px\; border: 0px\; font-variant-numeric: inherit\; font-variant-east-asian: inherit\; font-stretch: inherit\; font-size: 15px\; line-height: inherit\; font-family: &quot\;Segoe UI&quot\;\, &quot\;Segoe UI Web (West European)&quot\;\, &quot\;Segoe UI&quot\;\, -apple-system\, BlinkMacSystemFont\, Roboto\, &quot\;Helvetica Neue&quot\;\, sans-serif\; vertical-align: baseline\; color: rgb(32\, 31\, 30)\; background-color: rgb(255\, 255\, 255)\;">\n<p class="x_MsoNormal" style="line-height: normal\; margin: 0in 0in 8pt\; font-size: 11pt\; font-family: Calibri\, sans-serif\;">&nbsp\;</p>\n</div>\n
LOCATION:The lunch and program will be at the beautiful Hardman-Sams House\, known as 255 Milledge
UID:e.1940.164289
SEQUENCE:3
DTSTAMP:20260425T223007Z
URL:https://athensga-gzcms.preview.gochambermaster.com/events/details/creating-the-life-you-want-in-2020-lunch-and-learn-with-author-sallie-holder-164289
END:VEVENT

END:VCALENDAR
