BEGIN:VCALENDAR
VERSION:2.0
PRODID:-//ChamberMaster//Event Calendar 2.0//EN
METHOD:PUBLISH
X-PUBLISHED-TTL:P3D
REFRESH-INTERVAL:P3D
CALSCALE:GREGORIAN
BEGIN:VEVENT
DTSTART:20210907T150000Z
DTEND:20210907T160000Z
X-MICROSOFT-CDO-ALLDAYEVENT:FALSE
SUMMARY:Business & Community Update - Virtual Event
DESCRIPTION:Join us for a Community Conversation discussing the current stages of the pandemic with a focus on local government\, healthcare and our K12 Public School system.  This call\, jointly coordinated by the Chamber and the Athens Area Community Foundation\, will include:\n\n	Mayor Kelly Girtz\n	St Mary's Health Care CEO - Dr. Montez Carter\n	Piedmont Athens CEO - Michael Burnett\n	Clarke County School District Superintendent - Dr. Xernona Thomas
X-ALT-DESC;FMTTYPE=text/html:Join us for a Community Conversation discussing the current stages of the pandemic with a focus on local government\, healthcare and our K12 Public School system.&nbsp\; This call\, jointly coordinated by the Chamber and the Athens Area Community Foundation\, will include:\n<ul>\n	<li>Mayor Kelly Girtz</li>\n	<li>St Mary&#39\;s Health Care CEO - Dr. Montez Carter</li>\n	<li>Piedmont Athens CEO - Michael Burnett</li>\n	<li>Clarke County School District Superintendent - Dr. Xernona Thomas</li>\n</ul>\n
LOCATION:Join Zoom Meeting https://us02web.zoom.us/j/89537281671?pwd=cUhJNkZDdThaenJ2MndYWURZeEtSQT09 Meeting ID: 895 3728 1671 Passcode: 119162 One tap mobile +13017158592\,\,89537281671#\,\,\,\,*119162# US (Washington DC) +13126266799\,\,89537281671#\,\,\,\,*119162# US (Chicago) Dial by your location +1 301 715 8592 US (Washington DC) +1 312 626 6799 US (Chicago) +1 929 205 6099 US (New York) +1 253 215 8782 US (Tacoma) +1 346 248 7799 US (Houston) +1 669 900 6833 US (San Jose) Meeting ID: 895 3728 1671 Passcode: 119162 Find your local number: https://us02web.zoom.us/u/kdidlbmtNE
UID:e.1940.165734
SEQUENCE:3
DTSTAMP:20260423T004239Z
URL:https://athensga-gzcms.preview.gochambermaster.com/events/details/business-community-update-virtual-event-165734
END:VEVENT

END:VCALENDAR
