BEGIN:VCALENDAR
VERSION:2.0
PRODID:-//ChamberMaster//Event Calendar 2.0//EN
METHOD:PUBLISH
X-PUBLISHED-TTL:P3D
REFRESH-INTERVAL:P3D
CALSCALE:GREGORIAN
BEGIN:VEVENT
DTSTART:20201018T120000Z
DTEND:20201024T180000Z
X-MICROSOFT-CDO-ALLDAYEVENT:FALSE
SUMMARY:Building Better Communities October Local Business Partnership
DESCRIPTION:Help a local charity this week by dining local at Little City Diner\, located on Cherokee Road in Winterville. Open Tuesday through Sunday from 8 AM to 2 PM. W&A Engineering will match their first $500 in sales with a donation to BreastFest Athens\, a non-profit that raises money for local breast cancer prevention and screening. It's part of W&A Engineering's 20th-anniversary initiative to celebrate local businesses and nonprofits. Help Support National Breast Cancer Awareness Month by dining at Little City Diner this week!
X-ALT-DESC;FMTTYPE=text/html:Help a local charity this week by dining local at Little City Diner\, located on Cherokee Road in Winterville. Open Tuesday through Sunday from 8 AM to 2 PM. W&amp\;A Engineering will match their first $500 in sales with a donation to BreastFest Athens\, a non-profit that raises money for local breast cancer prevention and screening. It&rsquo\;s part of W&amp\;A Engineering&rsquo\;s 20th-anniversary initiative to celebrate local businesses and nonprofits. Help Support National Breast Cancer Awareness Month by dining at Little City Diner this week!<br />\n<br />\n&nbsp\;
LOCATION:Little City Diner 135 Cherokee Rd. Winterville\, GA 30683
UID:e.1940.165538
SEQUENCE:3
DTSTAMP:20260424T194443Z
URL:https://athensga-gzcms.preview.gochambermaster.com/events/details/building-better-communities-october-local-business-partnership-165538
END:VEVENT

END:VCALENDAR
