BEGIN:VCALENDAR
VERSION:2.0
PRODID:-//ChamberMaster//Event Calendar 2.0//EN
METHOD:PUBLISH
X-PUBLISHED-TTL:P3D
REFRESH-INTERVAL:P3D
CALSCALE:GREGORIAN
BEGIN:VEVENT
DTSTART:20220728T210000Z
DTEND:20220729T000000Z
X-MICROSOFT-CDO-ALLDAYEVENT:FALSE
SUMMARY:Athens Technical College Open House
DESCRIPTION:We encourage all prospective students and families to attend and meet with our instructors and staff.\n\nFree applications\, food and prizes will be provided!\n\n\n\nWe strive to host inclusive\, accessible events that enable all individuals\, including individuals with disabilities\, to engage fully. For accommodations\, please email vpsa@AthensTech.edu.
X-ALT-DESC;FMTTYPE=text/html:We encourage all prospective students and families to attend and meet with our instructors and staff.<br />\nFree applications\, food and prizes will be provided!<br />\n<br />\nWe strive to host inclusive\, accessible events that enable all individuals\, including individuals with disabilities\, to engage fully. For accommodations\, please email vpsa@AthensTech.edu.&nbsp\;
LOCATION:Athens Technical College Main Campus - Life Sciences Building (A)
UID:e.1940.165941
SEQUENCE:3
DTSTAMP:20260421T134038Z
URL:https://athensga-gzcms.preview.gochambermaster.com/events/details/athens-technical-college-open-house-165941
END:VEVENT

END:VCALENDAR
